BEGIN:VCALENDAR
VERSION:2.0
PRODID:-//eventon.com NONSGML v1.0//EN
CALSCALE:GREGORIAN
METHOD:PUBLISH
BEGIN:VEVENT
UID:69e5d52d4ee8b
DTSTAMP:20260420T072637Z
DTSTART:20201017T100000Z
DTEND:20201017T160000Z
LOCATION:
SUMMARY:Den za obnovu lesa - ZŘUŠENO
DESCRIPTION:Den za obnovu lesa\,  největší celostátní akci na podporu 
 obnovy české a moravské krajiny\,  pořádají v&nbsp;sobotu 17. října
  od 10 do 16 hodin za každého počasí ve všech krajích Lesy České re
 publiky.\nhttps://stredni-skola-frydlant.cz/events/den-za-obnovu-lesa/
URL:https://stredni-skola-frydlant.cz/events/den-za-obnovu-lesa/
END:VEVENT
END:VCALENDAR