BEGIN:VCALENDAR
VERSION:2.0
PRODID:-//eventon.com NONSGML v1.0//EN
CALSCALE:GREGORIAN
METHOD:PUBLISH
BEGIN:VEVENT
UID:69e7600c61b40
DTSTAMP:20260421T113124Z
DTSTART:20200915T020000Z
DTEND:20200915T030000Z
LOCATION:
SUMMARY:Předávání maturitních vysvědčení
DESCRIPTION:Předávání maturitních vysvědčení pro žáky z pracoviš
 ti Bělíkova a Zámecká se uskuteční 15.9.2020 od 14.00 hodin. Místo: 
 Pracoviště Bělíkova\,  Frýdlant\nhttps://stredni-skola-frydlant.cz/eve
 nts/predavani-maturitnich-vysvedceni/
URL:https://stredni-skola-frydlant.cz/events/predavani-maturitnich-vysvedceni/
END:VEVENT
END:VCALENDAR