BEGIN:VCALENDAR
VERSION:2.0
PRODID:-//eventon.com NONSGML v1.0//EN
CALSCALE:GREGORIAN
METHOD:PUBLISH
BEGIN:VEVENT
UID:69e8a49d931aa
DTSTAMP:20260422T103613Z
DTSTART:20200630T080000Z
DTEND:20200630T090000Z
LOCATION:
SUMMARY:Vydávání vysvědčení pro žáky nižších ročníků
DESCRIPTION:Vydávání vysvědčení pro žáky nižších ročníků bude
  probíhat dle rozpisu pro jednotlivé třídy 30. 6. 2020 Pracoviště Bě
 líkova\,  Frýdlant&nbsp; 08:00 &#8211; 08.40 Pracoviště Zámecká\,  Fr
 ýdlant 09:00 &#8211; 09:40 Pracoviště Hejnice&nbsp; &nbsp; &nbsp; &nbsp;
  &nbsp; &nbsp; &nbsp; &nbsp; &nbsp; &nbsp; 08:30 &#8211; 09:00\nhttps://str
 edni-skola-frydlant.cz/events/vydavani-vysvedceni-pro-zaky-nizsich-rocniku/
URL:https://stredni-skola-frydlant.cz/events/vydavani-vysvedceni-pro-zaky-nizsich-rocniku/
END:VEVENT
END:VCALENDAR