BEGIN:VCALENDAR
VERSION:2.0
PRODID:-//eventon.com NONSGML v1.0//EN
CALSCALE:GREGORIAN
METHOD:PUBLISH
BEGIN:VEVENT
UID:69eb66adc5b9f
DTSTAMP:20260424T124845Z
DTSTART:20221223T110000Z
DTEND:20230102T230000Z
LOCATION:
SUMMARY:Vánoční prázdniny
DESCRIPTION:Vánoční prázdniny\nhttps://stredni-skola-frydlant.cz/events
 /vanocni-prazdniny-3/
URL:https://stredni-skola-frydlant.cz/events/vanocni-prazdniny-3/
END:VEVENT
END:VCALENDAR