BEGIN:VCALENDAR
VERSION:2.0
PRODID:-//eventon.com NONSGML v1.0//EN
CALSCALE:GREGORIAN
METHOD:PUBLISH
BEGIN:VEVENT
UID:69e93b8c1f1a6
DTSTAMP:20260422T212012Z
DTSTART:20221104T200000Z
DTEND:20221104T230000Z
LOCATION:
SUMMARY:Svatohubertské slavnosti
DESCRIPTION:Svatohubertské slavnosti\nhttps://stredni-skola-frydlant.cz/ev
 ents/svatohubertske-slavnosti-2/
URL:https://stredni-skola-frydlant.cz/events/svatohubertske-slavnosti-2/
END:VEVENT
END:VCALENDAR