BEGIN:VCALENDAR
VERSION:2.0
PRODID:-//eventon.com NONSGML v1.0//EN
CALSCALE:GREGORIAN
METHOD:PUBLISH
BEGIN:VEVENT
UID:69e7672dc91a8
DTSTAMP:20260421T120149Z
DTSTART:20221019T200000Z
DTEND:20221021T020000Z
LOCATION:
SUMMARY:JIZERSKÝ DŘEVORUBEC
DESCRIPTION:JIZERSKÝ DŘEVORUBEC\nhttps://stredni-skola-frydlant.cz/events
 /jizersky-drevorubec/
URL:https://stredni-skola-frydlant.cz/events/jizersky-drevorubec/
END:VEVENT
END:VCALENDAR