BEGIN:VCALENDAR
VERSION:2.0
PRODID:-//eventon.com NONSGML v1.0//EN
CALSCALE:GREGORIAN
METHOD:PUBLISH
BEGIN:VEVENT
UID:69e9fb57e01ff
DTSTAMP:20260423T105831Z
DTSTART:20220915T200000Z
DTEND:20220919T050000Z
LOCATION:
SUMMARY:MEZINÁRODNÍ VÝSTAVA JIŘINEK A SOUTĚŽ VE VAZBĚ A ARANŽOVÁNÍ KVĚTIN
DESCRIPTION:MEZINÁRODNÍ VÝSTAVA JIŘINEK A SOUTĚŽ VE VAZBĚ A ARANŽOV
 ÁNÍ KVĚTIN\nhttps://stredni-skola-frydlant.cz/events/mezinarodni-vystava
 -jirinek-a-soutez-ve-vazbe-a-aranzovani-kvetin/
URL:https://stredni-skola-frydlant.cz/events/mezinarodni-vystava-jirinek-a-soutez-ve-vazbe-a-aranzovani-kvetin/
END:VEVENT
END:VCALENDAR