BEGIN:VCALENDAR
VERSION:2.0
PRODID:-//eventon.com NONSGML v1.0//EN
CALSCALE:GREGORIAN
METHOD:PUBLISH
BEGIN:VEVENT
UID:69ed679490dda
DTSTAMP:20260426T011708Z
DTSTART:20220412T190000Z
DTEND:20220413T000000Z
LOCATION:
SUMMARY:MZ 2022 / Písemná práce z anglického jazyka
DESCRIPTION:MZ 2022 / Písemná práce z anglického jazyka\nhttps://stredn
 i-skola-frydlant.cz/events/mz-2022-pisemna-prace-z-anglickeho-jazyka/
URL:https://stredni-skola-frydlant.cz/events/mz-2022-pisemna-prace-z-anglickeho-jazyka/
END:VEVENT
END:VCALENDAR