BEGIN:VCALENDAR
VERSION:2.0
PRODID:-//eventon.com NONSGML v1.0//EN
CALSCALE:GREGORIAN
METHOD:PUBLISH
BEGIN:VEVENT
UID:69eae0286e1be
DTSTAMP:20260424T031448Z
DTSTART:20220114T200000Z
DTEND:20220114T220000Z
LOCATION:
SUMMARY:Projektový den pro ZŠ Speciální Frýdlant
DESCRIPTION:Projektový den pro ZŠ Speciální Frýdlant\nhttps://stredni-
 skola-frydlant.cz/events/projektovy-den-pro-zs-specialni-frydlant/
URL:https://stredni-skola-frydlant.cz/events/projektovy-den-pro-zs-specialni-frydlant/
END:VEVENT
END:VCALENDAR