BEGIN:VCALENDAR
VERSION:2.0
PRODID:-//eventon.com NONSGML v1.0//EN
CALSCALE:GREGORIAN
METHOD:PUBLISH
BEGIN:VEVENT
UID:69ea49a0e396a
DTSTAMP:20260423T163232Z
DTSTART:20220214T230000Z
DTEND:20220218T230000Z
LOCATION:
SUMMARY:Jarní prázdniny
DESCRIPTION:Jarní prázdniny\nhttps://stredni-skola-frydlant.cz/events/jar
 ni-prazdniny-2/
URL:https://stredni-skola-frydlant.cz/events/jarni-prazdniny-2/
END:VEVENT
END:VCALENDAR