BEGIN:VCALENDAR
VERSION:2.0
PRODID:-//eventon.com NONSGML v1.0//EN
CALSCALE:GREGORIAN
METHOD:PUBLISH
BEGIN:VEVENT
UID:69e7ce50cf2fa
DTSTAMP:20260421T192152Z
DTSTART:20220204T230000Z
DTEND:20220204T230000Z
LOCATION:
SUMMARY:Pololetní prázdniny
DESCRIPTION:Pololetní prázdniny\nhttps://stredni-skola-frydlant.cz/events
 /pololetni-prazdniny/
URL:https://stredni-skola-frydlant.cz/events/pololetni-prazdniny/
END:VEVENT
END:VCALENDAR